{
 "currentVersion": 10.4,
 "serviceDescription": "Ranh giới các tỉnh vùng Tây Bắc: Điện Biên, Sơn La, Lào Cai, Yên Bái, Tuyên Quang, Phú Thọ, Nghệ An, Thanh Hóa, ",
 "mapName": "Ranh giới tỉnh",
 "description": "",
 "copyrightText": "Faculty of Geological",
 "supportsDynamicLayers": true,
 "layers": [
  {
   "id": 0,
   "name": "Ranh giới tỉnh",
   "parentLayerId": -1,
   "defaultVisibility": true,
   "subLayerIds": null,
   "minScale": 0,
   "maxScale": 0
  }
 ],
 "tables": [],
 "spatialReference": {
  "wkt": "PROJCS[\"Transverse_Mercator\",GEOGCS[\"GCS_Geographic Coordinate System\",DATUM[\"D_Vietnam_2000\",SPHEROID[\"WGS84\",6378137.0,298.257223560493]],PRIMEM[\"Greenwich\",0.0],UNIT[\"Degree\",0.0174532925199433]],PROJECTION[\"Transverse_Mercator\"],PARAMETER[\"false_easting\",500000.0],PARAMETER[\"false_northing\",0.0],PARAMETER[\"central_meridian\",105.0],PARAMETER[\"scale_factor\",0.9996],PARAMETER[\"latitude_of_origin\",0.0],UNIT[\"Meter\",1.0]]"
 },
 "singleFusedMapCache": true,
 "tileInfo": {
  "rows": 256,
  "cols": 256,
  "dpi": 96,
  "format": "PNG",
  "compressionQuality": 0,
  "origin": {
   "x": -5120900,
   "y": 9998100
  },
  "spatialReference": {
   "wkt": "PROJCS[\"Transverse_Mercator\",GEOGCS[\"GCS_Geographic Coordinate System\",DATUM[\"D_Vietnam_2000\",SPHEROID[\"WGS84\",6378137.0,298.257223560493]],PRIMEM[\"Greenwich\",0.0],UNIT[\"Degree\",0.0174532925199433]],PROJECTION[\"Transverse_Mercator\"],PARAMETER[\"false_easting\",500000.0],PARAMETER[\"false_northing\",0.0],PARAMETER[\"central_meridian\",105.0],PARAMETER[\"scale_factor\",0.9996],PARAMETER[\"latitude_of_origin\",0.0],UNIT[\"Meter\",1.0]]"
  },
  "lods": [
   {
    "level": 0,
    "resolution": 2116.670900008467,
    "scale": 8000000
   },
   {
    "level": 1,
    "resolution": 1058.3354500042335,
    "scale": 4000000
   },
   {
    "level": 2,
    "resolution": 529.1677250021168,
    "scale": 2000000
   },
   {
    "level": 3,
    "resolution": 264.5838625010584,
    "scale": 1000000
   },
   {
    "level": 4,
    "resolution": 132.2919312505292,
    "scale": 500000
   },
   {
    "level": 5,
    "resolution": 66.1459656252646,
    "scale": 250000
   },
   {
    "level": 6,
    "resolution": 33.0729828126323,
    "scale": 125000
   },
   {
    "level": 7,
    "resolution": 16.933367200067735,
    "scale": 64000
   },
   {
    "level": 8,
    "resolution": 8.466683600033868,
    "scale": 32000
   },
   {
    "level": 9,
    "resolution": 4.233341800016934,
    "scale": 16000
   }
  ]
 },
 "initialExtent": {
  "xmin": 154059.0726202267,
  "ymin": 2229384.1742727915,
  "xmax": 796556.8615797735,
  "ymax": 2613688.120355,
  "spatialReference": {
   "wkt": "PROJCS[\"Transverse_Mercator\",GEOGCS[\"GCS_Geographic Coordinate System\",DATUM[\"D_Vietnam_2000\",SPHEROID[\"WGS84\",6378137.0,298.257223560493]],PRIMEM[\"Greenwich\",0.0],UNIT[\"Degree\",0.0174532925199433]],PROJECTION[\"Transverse_Mercator\"],PARAMETER[\"false_easting\",500000.0],PARAMETER[\"false_northing\",0.0],PARAMETER[\"central_meridian\",105.0],PARAMETER[\"scale_factor\",0.9996],PARAMETER[\"latitude_of_origin\",0.0],UNIT[\"Meter\",1.0]]"
  }
 },
 "fullExtent": {
  "xmin": 205931.45289999992,
  "ymin": 2054248.0142,
  "xmax": 744684.4813000001,
  "ymax": 2587048.1152999997,
  "spatialReference": {
   "wkt": "PROJCS[\"Transverse_Mercator\",GEOGCS[\"GCS_Geographic Coordinate System\",DATUM[\"D_Vietnam_2000\",SPHEROID[\"WGS84\",6378137.0,298.257223560493]],PRIMEM[\"Greenwich\",0.0],UNIT[\"Degree\",0.0174532925199433]],PROJECTION[\"Transverse_Mercator\"],PARAMETER[\"false_easting\",500000.0],PARAMETER[\"false_northing\",0.0],PARAMETER[\"central_meridian\",105.0],PARAMETER[\"scale_factor\",0.9996],PARAMETER[\"latitude_of_origin\",0.0],UNIT[\"Meter\",1.0]]"
  }
 },
 "minScale": 8000000,
 "maxScale": 16000,
 "units": "esriMeters",
 "supportedImageFormatTypes": "PNG32,PNG24,PNG,JPG,DIB,TIFF,EMF,PS,PDF,GIF,SVG,SVGZ,BMP",
 "documentInfo": {
  "Title": "Ranh giới tỉnh vùng Tây Bắc",
  "Author": "VuongNV",
  "Comments": "Ranh giới các tỉnh vùng Tây Bắc: Điện Biên, Sơn La, Lào Cai, Yên Bái, Tuyên Quang, Phú Thọ, Nghệ An, Thanh Hóa, ",
  "Subject": "Ranh giới các tỉnh vùng Tây Bắc",
  "Category": "",
  "AntialiasingMode": "None",
  "TextAntialiasingMode": "Force",
  "Keywords": "Tây Bắc,Ranh Gới,Vùng,SDI,Tỉnh"
 },
 "capabilities": "Map,Query,Data",
 "supportedQueryFormats": "JSON, AMF, geoJSON",
 "exportTilesAllowed": false,
 "maxRecordCount": 1000,
 "maxImageHeight": 4096,
 "maxImageWidth": 4096,
 "tileServers": "",
 "supportedExtensions": ""
}
