{
 "currentVersion": 10.4,
 "serviceDescription": "Cầu giao thông lớn vùng Tây Bắc",
 "mapName": "Cầu lớn",
 "description": "",
 "copyrightText": "Faculty of Geological",
 "supportsDynamicLayers": true,
 "layers": [
  {
   "id": 0,
   "name": "Cầu lớn",
   "parentLayerId": -1,
   "defaultVisibility": true,
   "subLayerIds": null,
   "minScale": 0,
   "maxScale": 0
  }
 ],
 "tables": [],
 "spatialReference": {
  "wkt": "PROJCS[\"Transverse_Mercator\",GEOGCS[\"GCS_Geographic Coordinate System\",DATUM[\"D_Vietnam_2000\",SPHEROID[\"WGS84\",6378137.0,298.257223560493]],PRIMEM[\"Greenwich\",0.0],UNIT[\"Degree\",0.0174532925199433]],PROJECTION[\"Transverse_Mercator\"],PARAMETER[\"false_easting\",500000.0],PARAMETER[\"false_northing\",0.0],PARAMETER[\"central_meridian\",105.0],PARAMETER[\"scale_factor\",0.9996],PARAMETER[\"latitude_of_origin\",0.0],UNIT[\"Meter\",1.0]]"
 },
 "singleFusedMapCache": true,
 "tileInfo": {
  "rows": 256,
  "cols": 256,
  "dpi": 96,
  "format": "PNG",
  "compressionQuality": 0,
  "origin": {
   "x": -5120900,
   "y": 9998100
  },
  "spatialReference": {
   "wkt": "PROJCS[\"Transverse_Mercator\",GEOGCS[\"GCS_Geographic Coordinate System\",DATUM[\"D_Vietnam_2000\",SPHEROID[\"WGS84\",6378137.0,298.257223560493]],PRIMEM[\"Greenwich\",0.0],UNIT[\"Degree\",0.0174532925199433]],PROJECTION[\"Transverse_Mercator\"],PARAMETER[\"false_easting\",500000.0],PARAMETER[\"false_northing\",0.0],PARAMETER[\"central_meridian\",105.0],PARAMETER[\"scale_factor\",0.9996],PARAMETER[\"latitude_of_origin\",0.0],UNIT[\"Meter\",1.0]]"
  },
  "lods": [
   {
    "level": 0,
    "resolution": 132.2919312505292,
    "scale": 500000
   },
   {
    "level": 1,
    "resolution": 66.1459656252646,
    "scale": 250000
   },
   {
    "level": 2,
    "resolution": 33.0729828126323,
    "scale": 125000
   },
   {
    "level": 3,
    "resolution": 16.933367200067735,
    "scale": 64000
   },
   {
    "level": 4,
    "resolution": 8.466683600033868,
    "scale": 32000
   },
   {
    "level": 5,
    "resolution": 4.233341800016934,
    "scale": 16000
   },
   {
    "level": 6,
    "resolution": 2.116670900008467,
    "scale": 8000
   },
   {
    "level": 7,
    "resolution": 1.0583354500042335,
    "scale": 4000
   },
   {
    "level": 8,
    "resolution": 0.5291677250021167,
    "scale": 2000
   }
  ]
 },
 "initialExtent": {
  "xmin": 512342.4871267539,
  "ymin": 2273247.2939596456,
  "xmax": 589177.6407970614,
  "ymax": 2319205.510876079,
  "spatialReference": {
   "cs": "pcs",
   "wkt": "PROJCS[\"Transverse_Mercator\",GEOGCS[\"GCS_Geographic Coordinate System\",DATUM[\"D_Vietnam_2000\",SPHEROID[\"WGS84\",6378137.0,298.257223560493]],PRIMEM[\"Greenwich\",0.0],UNIT[\"Degree\",0.0174532925199433]],PROJECTION[\"Transverse_Mercator\"],PARAMETER[\"false_easting\",500000.0],PARAMETER[\"false_northing\",0.0],PARAMETER[\"central_meridian\",105.0],PARAMETER[\"scale_factor\",0.9996],PARAMETER[\"latitude_of_origin\",0.0],UNIT[\"Meter\",1.0]]"
  }
 },
 "fullExtent": {
  "xmin": 527024.9550999999,
  "ymin": 2252155.4239000008,
  "xmax": 580662.0504999999,
  "ymax": 2310043.0327000003,
  "spatialReference": {
   "cs": "pcs",
   "wkt": "PROJCS[\"Transverse_Mercator\",GEOGCS[\"GCS_Geographic Coordinate System\",DATUM[\"D_Vietnam_2000\",SPHEROID[\"WGS84\",6378137.0,298.257223560493]],PRIMEM[\"Greenwich\",0.0],UNIT[\"Degree\",0.0174532925199433]],PROJECTION[\"Transverse_Mercator\"],PARAMETER[\"false_easting\",500000.0],PARAMETER[\"false_northing\",0.0],PARAMETER[\"central_meridian\",105.0],PARAMETER[\"scale_factor\",0.9996],PARAMETER[\"latitude_of_origin\",0.0],UNIT[\"Meter\",1.0]]"
  }
 },
 "minScale": 500000,
 "maxScale": 2000,
 "units": "esriMeters",
 "supportedImageFormatTypes": "PNG32,PNG24,PNG,JPG,DIB,TIFF,EMF,PS,PDF,GIF,SVG,SVGZ,BMP",
 "documentInfo": {
  "Title": "Cầu giao thông lớn vùng Tây Bắc",
  "Author": "VuongNV",
  "Comments": "Cầu giao thông lớn vùng Tây Bắc",
  "Subject": "Cầu giao thông lớn vùng Tây Bắc",
  "Category": "",
  "AntialiasingMode": "None",
  "TextAntialiasingMode": "Force",
  "Keywords": "Tây Bắc,Cầu,Giao Thông,Cơ Sở Hạ Tầng"
 },
 "capabilities": "Map,Query,Data",
 "supportedQueryFormats": "JSON, AMF, geoJSON",
 "exportTilesAllowed": false,
 "maxRecordCount": 1000,
 "maxImageHeight": 4096,
 "maxImageWidth": 4096,
 "tileServers": "",
 "supportedExtensions": ""
}
