{
 "currentVersion": 10.4,
 "serviceDescription": "Bản đồ vị trí các cơ sở y tế vùng Tây Bắc - Thuộc lĩnh vực Giáo dục",
 "mapName": "Cơ sở giáo dục",
 "description": "",
 "copyrightText": "Faculty of Geological",
 "supportsDynamicLayers": true,
 "layers": [
  {
   "id": 0,
   "name": "Cơ sở y tế",
   "parentLayerId": -1,
   "defaultVisibility": true,
   "subLayerIds": null,
   "minScale": 0,
   "maxScale": 0
  }
 ],
 "tables": [],
 "spatialReference": {
  "wkt": "PROJCS[\"Transverse_Mercator\",GEOGCS[\"GCS_Geographic Coordinate System\",DATUM[\"D_Vietnam_2000\",SPHEROID[\"WGS84\",6378137.0,298.257223560493]],PRIMEM[\"Greenwich\",0.0],UNIT[\"Degree\",0.0174532925199433]],PROJECTION[\"Transverse_Mercator\"],PARAMETER[\"false_easting\",500000.0],PARAMETER[\"false_northing\",0.0],PARAMETER[\"central_meridian\",105.0],PARAMETER[\"scale_factor\",0.9996],PARAMETER[\"latitude_of_origin\",0.0],UNIT[\"Meter\",1.0]]"
 },
 "singleFusedMapCache": true,
 "tileInfo": {
  "rows": 256,
  "cols": 256,
  "dpi": 96,
  "format": "PNG",
  "compressionQuality": 0,
  "origin": {
   "x": -5120900,
   "y": 9998100
  },
  "spatialReference": {
   "wkt": "PROJCS[\"Transverse_Mercator\",GEOGCS[\"GCS_Geographic Coordinate System\",DATUM[\"D_Vietnam_2000\",SPHEROID[\"WGS84\",6378137.0,298.257223560493]],PRIMEM[\"Greenwich\",0.0],UNIT[\"Degree\",0.0174532925199433]],PROJECTION[\"Transverse_Mercator\"],PARAMETER[\"false_easting\",500000.0],PARAMETER[\"false_northing\",0.0],PARAMETER[\"central_meridian\",105.0],PARAMETER[\"scale_factor\",0.9996],PARAMETER[\"latitude_of_origin\",0.0],UNIT[\"Meter\",1.0]]"
  },
  "lods": [
   {
    "level": 0,
    "resolution": 264.5838625010584,
    "scale": 1000000
   },
   {
    "level": 1,
    "resolution": 132.2919312505292,
    "scale": 500000
   },
   {
    "level": 2,
    "resolution": 66.1459656252646,
    "scale": 250000
   },
   {
    "level": 3,
    "resolution": 33.0729828126323,
    "scale": 125000
   },
   {
    "level": 4,
    "resolution": 16.933367200067735,
    "scale": 64000
   },
   {
    "level": 5,
    "resolution": 8.466683600033868,
    "scale": 32000
   },
   {
    "level": 6,
    "resolution": 4.233341800016934,
    "scale": 16000
   },
   {
    "level": 7,
    "resolution": 2.116670900008467,
    "scale": 8000
   },
   {
    "level": 8,
    "resolution": 1.0583354500042335,
    "scale": 4000
   }
  ]
 },
 "initialExtent": {
  "xmin": 415262.53674570826,
  "ymin": 2227142.3511717473,
  "xmax": 671379.7156467328,
  "ymax": 2380336.40755986,
  "spatialReference": {
   "wkt": "PROJCS[\"Transverse_Mercator\",GEOGCS[\"GCS_Geographic Coordinate System\",DATUM[\"D_Vietnam_2000\",SPHEROID[\"WGS84\",6378137.0,298.257223560493]],PRIMEM[\"Greenwich\",0.0],UNIT[\"Degree\",0.0174532925199433]],PROJECTION[\"Transverse_Mercator\"],PARAMETER[\"false_easting\",500000.0],PARAMETER[\"false_northing\",0.0],PARAMETER[\"central_meridian\",105.0],PARAMETER[\"scale_factor\",0.9996],PARAMETER[\"latitude_of_origin\",0.0],UNIT[\"Meter\",1.0]]"
  }
 },
 "fullExtent": {
  "xmin": 486887.91610000003,
  "ymin": 2251293.7190000005,
  "xmax": 588442.9400000004,
  "ymax": 2328831.409600001,
  "spatialReference": {
   "wkt": "PROJCS[\"Transverse_Mercator\",GEOGCS[\"GCS_Geographic Coordinate System\",DATUM[\"D_Vietnam_2000\",SPHEROID[\"WGS84\",6378137.0,298.257223560493]],PRIMEM[\"Greenwich\",0.0],UNIT[\"Degree\",0.0174532925199433]],PROJECTION[\"Transverse_Mercator\"],PARAMETER[\"false_easting\",500000.0],PARAMETER[\"false_northing\",0.0],PARAMETER[\"central_meridian\",105.0],PARAMETER[\"scale_factor\",0.9996],PARAMETER[\"latitude_of_origin\",0.0],UNIT[\"Meter\",1.0]]"
  }
 },
 "minScale": 1000000,
 "maxScale": 4000,
 "units": "esriMeters",
 "supportedImageFormatTypes": "PNG32,PNG24,PNG,JPG,DIB,TIFF,EMF,PS,PDF,GIF,SVG,SVGZ,BMP",
 "documentInfo": {
  "Title": "Cơ sở y tếvùng Tây Bắc",
  "Author": "VuongNV",
  "Comments": "Bản đồ vị trí các cơ sở y tế vùng Tây Bắc - Thuộc lĩnh vực Giáo dục",
  "Subject": "Bản đồ vị trí các cơ sở y tế vùng Tây Bắc",
  "Category": "",
  "AntialiasingMode": "None",
  "TextAntialiasingMode": "Force",
  "Keywords": "Med,Y Tế,Vị trí,Bản đồ,Cơ sở,Tây Bắc,Map Service"
 },
 "capabilities": "Map,Query,Data",
 "supportedQueryFormats": "JSON, AMF, geoJSON",
 "exportTilesAllowed": false,
 "maxRecordCount": 1000,
 "maxImageHeight": 4096,
 "maxImageWidth": 4096,
 "tileServers": "",
 "supportedExtensions": ""
}
